BEGIN:VCALENDAR
VERSION:2.0
PRODID:-//Kosko Shotgun Sports - ECPv6.15.20//NONSGML v1.0//EN
CALSCALE:GREGORIAN
METHOD:PUBLISH
X-ORIGINAL-URL:https://www.koskoshotgunsports.com
X-WR-CALDESC:Events for Kosko Shotgun Sports
REFRESH-INTERVAL;VALUE=DURATION:PT1H
X-Robots-Tag:noindex
X-PUBLISHED-TTL:PT1H
BEGIN:VTIMEZONE
TZID:America/Indiana/Indianapolis
BEGIN:DAYLIGHT
TZOFFSETFROM:-0500
TZOFFSETTO:-0400
TZNAME:EDT
DTSTART:20240310T070000
END:DAYLIGHT
BEGIN:STANDARD
TZOFFSETFROM:-0400
TZOFFSETTO:-0500
TZNAME:EST
DTSTART:20241103T060000
END:STANDARD
BEGIN:DAYLIGHT
TZOFFSETFROM:-0500
TZOFFSETTO:-0400
TZNAME:EDT
DTSTART:20250309T070000
END:DAYLIGHT
BEGIN:STANDARD
TZOFFSETFROM:-0400
TZOFFSETTO:-0500
TZNAME:EST
DTSTART:20251102T060000
END:STANDARD
BEGIN:DAYLIGHT
TZOFFSETFROM:-0500
TZOFFSETTO:-0400
TZNAME:EDT
DTSTART:20260308T070000
END:DAYLIGHT
BEGIN:STANDARD
TZOFFSETFROM:-0400
TZOFFSETTO:-0500
TZNAME:EST
DTSTART:20261101T060000
END:STANDARD
END:VTIMEZONE
BEGIN:VEVENT
DTSTART;VALUE=DATE:20250718
DTEND;VALUE=DATE:20250721
DTSTAMP:20260423T234008
CREATED:20250213T214124Z
LAST-MODIFIED:20250213T214124Z
UID:1094-1752796800-1753055999@www.koskoshotgunsports.com
SUMMARY:ST JOE NSSA Kolar Mid America Skeet
DESCRIPTION:
URL:https://www.koskoshotgunsports.com/event/st-joe-nssa-kolar-mid-america-skeet/
LOCATION:St. Joe Valley Conservation Club\, 5871 County Rd. 60\, St Joe\, IN\, 46785\, United States
CATEGORIES:Skeet
END:VEVENT
BEGIN:VEVENT
DTSTART;VALUE=DATE:20250725
DTEND;VALUE=DATE:20250728
DTSTAMP:20260423T234008
CREATED:20250130T115047Z
LAST-MODIFIED:20250130T120102Z
UID:1079-1753401600-1753660799@www.koskoshotgunsports.com
SUMMARY:KOSKO:  Indiana State Skeet Championships
DESCRIPTION:Details to Follow \nTrap and Skeet Closed for the Event \nSporting Clays Open \n5 Stand Open \nNote: Clubhouse will be used all day.  May want to park by Station #2 Parking Field
URL:https://www.koskoshotgunsports.com/event/kosko-indiana-state-skeet-championships/
LOCATION:Kosko Shotgun Sports Complex\, 2391 Fox Farm Road\, Warsaw\, IN\, 46580\, United States
CATEGORIES:Skeet
END:VEVENT
END:VCALENDAR