BEGIN:VCALENDAR
VERSION:2.0
PRODID:-//Kosko Shotgun Sports - ECPv6.15.20//NONSGML v1.0//EN
CALSCALE:GREGORIAN
METHOD:PUBLISH
X-ORIGINAL-URL:https://www.koskoshotgunsports.com
X-WR-CALDESC:Events for Kosko Shotgun Sports
REFRESH-INTERVAL;VALUE=DURATION:PT1H
X-Robots-Tag:noindex
X-PUBLISHED-TTL:PT1H
BEGIN:VTIMEZONE
TZID:America/Indiana/Indianapolis
BEGIN:DAYLIGHT
TZOFFSETFROM:-0500
TZOFFSETTO:-0400
TZNAME:EDT
DTSTART:20250309T070000
END:DAYLIGHT
BEGIN:STANDARD
TZOFFSETFROM:-0400
TZOFFSETTO:-0500
TZNAME:EST
DTSTART:20251102T060000
END:STANDARD
BEGIN:DAYLIGHT
TZOFFSETFROM:-0500
TZOFFSETTO:-0400
TZNAME:EDT
DTSTART:20260308T070000
END:DAYLIGHT
BEGIN:STANDARD
TZOFFSETFROM:-0400
TZOFFSETTO:-0500
TZNAME:EST
DTSTART:20261101T060000
END:STANDARD
BEGIN:DAYLIGHT
TZOFFSETFROM:-0500
TZOFFSETTO:-0400
TZNAME:EDT
DTSTART:20270314T070000
END:DAYLIGHT
BEGIN:STANDARD
TZOFFSETFROM:-0400
TZOFFSETTO:-0500
TZNAME:EST
DTSTART:20271107T060000
END:STANDARD
END:VTIMEZONE
BEGIN:VEVENT
DTSTART;TZID=America/Indiana/Indianapolis:20261127T090000
DTEND;TZID=America/Indiana/Indianapolis:20261127T130000
DTSTAMP:20260423T201632
CREATED:20260413T125854Z
LAST-MODIFIED:20260413T125854Z
UID:1400-1795770000-1795784400@www.koskoshotgunsports.com
SUMMARY:KOSKO Quack Friday
DESCRIPTION:Closed: Sporting Clays\, Open: 5 stand\, Open: Trap and Skeet
URL:https://www.koskoshotgunsports.com/event/kosko-quack-friday-2/
LOCATION:IN
CATEGORIES:Sporting Clays
END:VEVENT
END:VCALENDAR