BEGIN:VCALENDAR
VERSION:2.0
PRODID:-//Kosko Shotgun Sports - ECPv6.15.20//NONSGML v1.0//EN
CALSCALE:GREGORIAN
METHOD:PUBLISH
X-WR-CALNAME:Kosko Shotgun Sports
X-ORIGINAL-URL:https://www.koskoshotgunsports.com
X-WR-CALDESC:Events for Kosko Shotgun Sports
REFRESH-INTERVAL;VALUE=DURATION:PT1H
X-Robots-Tag:noindex
X-PUBLISHED-TTL:PT1H
BEGIN:VTIMEZONE
TZID:America/Indiana/Indianapolis
BEGIN:DAYLIGHT
TZOFFSETFROM:-0500
TZOFFSETTO:-0400
TZNAME:EDT
DTSTART:20240310T070000
END:DAYLIGHT
BEGIN:STANDARD
TZOFFSETFROM:-0400
TZOFFSETTO:-0500
TZNAME:EST
DTSTART:20241103T060000
END:STANDARD
BEGIN:DAYLIGHT
TZOFFSETFROM:-0500
TZOFFSETTO:-0400
TZNAME:EDT
DTSTART:20250309T070000
END:DAYLIGHT
BEGIN:STANDARD
TZOFFSETFROM:-0400
TZOFFSETTO:-0500
TZNAME:EST
DTSTART:20251102T060000
END:STANDARD
BEGIN:DAYLIGHT
TZOFFSETFROM:-0500
TZOFFSETTO:-0400
TZNAME:EDT
DTSTART:20260308T070000
END:DAYLIGHT
BEGIN:STANDARD
TZOFFSETFROM:-0400
TZOFFSETTO:-0500
TZNAME:EST
DTSTART:20261101T060000
END:STANDARD
END:VTIMEZONE
BEGIN:VEVENT
DTSTART;TZID=America/Indiana/Indianapolis:20250814T080000
DTEND;TZID=America/Indiana/Indianapolis:20250817T170000
DTSTAMP:20260423T161751
CREATED:20250116T154554Z
LAST-MODIFIED:20250116T154554Z
UID:1055-1755158400-1755450000@www.koskoshotgunsports.com
SUMMARY:Sugar Creek Sporting Clays: Indiana State Shoot
DESCRIPTION:August 14 – 17\, 2025REGISTRATION IS NOW OPEN ON SCORE CHASER\n\n\n​ \nPreferred hotels: \nSpring Mill State Park Inn  \nUse the code 0814CC. Guests can call our Reservations line at 877-LODGES1 to make their reservations. The members in your group can also go to our website\, www.indianainns.com\, to book their room using the group code.  Any rooms not reserved in your block will be released on Monday\, July 14\, 2025. \nSpring Mill State Park Campsites  ​ \nCobblestone Inn – Salem\, IN  Code:  ISCC  15 rooms available $119.99​ \nHampton Inn – Bedford\, IN  Ref: IN State Clays Championship 25 rooms available $130 \n(Hampton Inn provides a 10% discount anytime for Sugar Creek customers.)​ \nHoliday Inn Express – Bedford\, IN  Code:SCB  20 rooms available $129-$139 \nAir B&B Hometown Legend – Houses for Rent in Mitchell\, Indiana\, United States – Airbnb \n​​​ \nVRBO 
URL:https://www.koskoshotgunsports.com/event/sugar-creek-sporting-clays-indiana-state-shoot/
LOCATION:Sugar Creek Sporting Clays\, 2191 Bono Road\, Mitchell\, IN\, 47446\, United States
CATEGORIES:5 Stand,Sporting Clays
END:VEVENT
BEGIN:VEVENT
DTSTART;TZID=America/Indiana/Indianapolis:20250808T120000
DTEND;TZID=America/Indiana/Indianapolis:20250808T170000
DTSTAMP:20260423T161751
CREATED:20250124T094448Z
LAST-MODIFIED:20250722T165420Z
UID:1070-1754654400-1754672400@www.koskoshotgunsports.com
SUMMARY:KOSKO Holladay Corporate Event
DESCRIPTION:Start time is around 1:30pm  \nOpen: Sporting Clays \nSporting Clay will remain open during the event \nOpen: 5 Stand \nOpen Trap & Skeet \n 
URL:https://www.koskoshotgunsports.com/event/kosko-holladay-corporate-event/
LOCATION:Kosko Shotgun Sports Complex\, 2391 Fox Farm Road\, Warsaw\, IN\, 46580\, United States
CATEGORIES:5 Stand,Sporting Clays
END:VEVENT
BEGIN:VEVENT
DTSTART;TZID=America/Indiana/Indianapolis:20250612T100000
DTEND;TZID=America/Indiana/Indianapolis:20250612T160000
DTSTAMP:20260423T161751
CREATED:20250324T195824Z
LAST-MODIFIED:20250604T162554Z
UID:1118-1749722400-1749744000@www.koskoshotgunsports.com
SUMMARY:Paul Fernandez Outing
DESCRIPTION:Closed: Sporting Clays \nClosed: 5 Stand \nClosed: Field 1 \nOpen : Skeet and Trap Fields \nNote: Clubhouse will be used by the event all day \nMay want to park by Station #2 Parking Field
URL:https://www.koskoshotgunsports.com/event/paul-fernandez-outing/
LOCATION:Kosko Shotgun Sports Complex\, 2391 Fox Farm Road\, Warsaw\, IN\, 46580\, United States
CATEGORIES:5 Stand,Corporate Event,Sporting Clays
END:VEVENT
BEGIN:VEVENT
DTSTART;TZID=America/Indiana/Indianapolis:20250531T000000
DTEND;TZID=America/Indiana/Indianapolis:20250531T000000
DTSTAMP:20260423T161751
CREATED:20241227T185857Z
LAST-MODIFIED:20250102T121136Z
UID:940-1748649600-1748649600@www.koskoshotgunsports.com
SUMMARY:KOSKO 2025 Spring League Ends
DESCRIPTION:
URL:https://www.koskoshotgunsports.com/event/2025-spring-league-ends/
LOCATION:Kosko Shotgun Sports Complex\, 2391 Fox Farm Road\, Warsaw\, IN\, 46580\, United States
CATEGORIES:Sporting Clays
END:VEVENT
BEGIN:VEVENT
DTSTART;TZID=America/Indiana/Indianapolis:20250528T140000
DTEND;TZID=America/Indiana/Indianapolis:20250528T170000
DTSTAMP:20260423T161751
CREATED:20250526T121953Z
LAST-MODIFIED:20250526T121953Z
UID:1175-1748440800-1748451600@www.koskoshotgunsports.com
SUMMARY:KOSKO: Monteith Tire
DESCRIPTION:Note: Sporting Clays is Open \nThe event will have 3 to 4 groups starting using Sporing Clays around 2pm \nOpen: 5 Stand \nOpen Trap & Skeet \n 
URL:https://www.koskoshotgunsports.com/event/kosko-monteith-tire/
LOCATION:Kosko Shotgun Sports Complex\, 2391 Fox Farm Road\, Warsaw\, IN\, 46580\, United States
CATEGORIES:Corporate Event,Sporting Clays
END:VEVENT
BEGIN:VEVENT
DTSTART;TZID=America/Indiana/Indianapolis:20250508T080000
DTEND;TZID=America/Indiana/Indianapolis:20250508T170000
DTSTAMP:20260423T161751
CREATED:20250429T193427Z
LAST-MODIFIED:20250501T115951Z
UID:1165-1746691200-1746723600@www.koskoshotgunsports.com
SUMMARY:Shambaugh Corporate Event
DESCRIPTION:Closed: Sporting Clays and Five Stand \nClosed: Skeet and Trap Fields \nNote: Clubhouse will be used by the event all day \nMorning and Afternoon Events – All Fields will be used
URL:https://www.koskoshotgunsports.com/event/shambaugh-corporate-event/
LOCATION:Kosko Shotgun Sports Complex\, 2391 Fox Farm Road\, Warsaw\, IN\, 46580\, United States
CATEGORIES:5 Stand,Corporate Event,Skeet,Sporting Clays,Trap
END:VEVENT
BEGIN:VEVENT
DTSTART;VALUE=DATE:20250430
DTEND;VALUE=DATE:20250501
DTSTAMP:20260423T161751
CREATED:20250324T195631Z
LAST-MODIFIED:20250818T121503Z
UID:1116-1745971200-1746057599@www.koskoshotgunsports.com
SUMMARY:BCA Outing - Spring 2025
DESCRIPTION:Closed: Sporting Clays \nClosed: Skeet and Trap Fields \nOpen: 5 Stand \nNote: Clubhouse will be used by the event all day \nMay want to park by Station #2 Parking Field
URL:https://www.koskoshotgunsports.com/event/bca-outing/
LOCATION:Kosko Shotgun Sports Complex\, 2391 Fox Farm Road\, Warsaw\, IN\, 46580\, United States
CATEGORIES:Corporate Event,Sporting Clays
END:VEVENT
BEGIN:VEVENT
DTSTART;TZID=America/Indiana/Indianapolis:20250315T090000
DTEND;TZID=America/Indiana/Indianapolis:20250315T140000
DTSTAMP:20260423T161751
CREATED:20250110T144018Z
LAST-MODIFIED:20250110T144018Z
UID:1043-1742029200-1742047200@www.koskoshotgunsports.com
SUMMARY:Kosko St Patrick's Protection Shoot
DESCRIPTION:Details to Follow
URL:https://www.koskoshotgunsports.com/event/kosko-st-patricks-protection-shoot/
LOCATION:Kosko Shotgun Sports Complex\, 2391 Fox Farm Road\, Warsaw\, IN\, 46580\, United States
CATEGORIES:Sporting Clays
END:VEVENT
BEGIN:VEVENT
DTSTART;TZID=America/Indiana/Indianapolis:20250201T000000
DTEND;TZID=America/Indiana/Indianapolis:20250201T000000
DTSTAMP:20260423T161751
CREATED:20241227T185751Z
LAST-MODIFIED:20250102T121234Z
UID:938-1738368000-1738368000@www.koskoshotgunsports.com
SUMMARY:KOSKO 2025 Spring League Starts
DESCRIPTION:February\, March\, April\, May \n100 Targets Each Month – Sporting Clays \n400 Total Targets \n 
URL:https://www.koskoshotgunsports.com/event/2025-spring-league-starts/
LOCATION:Kosko Shotgun Sports Complex\, 2391 Fox Farm Road\, Warsaw\, IN\, 46580\, United States
CATEGORIES:Sporting Clays
END:VEVENT
BEGIN:VEVENT
DTSTART;TZID=America/Indiana/Indianapolis:20250104T090000
DTEND;TZID=America/Indiana/Indianapolis:20250104T140000
DTSTAMP:20260423T161751
CREATED:20241226T213025Z
LAST-MODIFIED:20241229T134419Z
UID:891-1735981200-1735999200@www.koskoshotgunsports.com
SUMMARY:Kosko Protection Shoot
DESCRIPTION:Sporting Clays Closed 9AM to 2PM for the Event. \nClubhouse will be used by the event. \nTrap\, Skeet & 5 Stands are open
URL:https://www.koskoshotgunsports.com/event/kosko-protection-shoot/
LOCATION:Kosko Shotgun Sports Complex\, 2391 Fox Farm Road\, Warsaw\, IN\, 46580\, United States
CATEGORIES:Sporting Clays
END:VEVENT
END:VCALENDAR