BEGIN:VCALENDAR
VERSION:2.0
PRODID:-//Kosko Shotgun Sports - ECPv6.15.20//NONSGML v1.0//EN
CALSCALE:GREGORIAN
METHOD:PUBLISH
X-ORIGINAL-URL:https://www.koskoshotgunsports.com
X-WR-CALDESC:Events for Kosko Shotgun Sports
REFRESH-INTERVAL;VALUE=DURATION:PT1H
X-Robots-Tag:noindex
X-PUBLISHED-TTL:PT1H
BEGIN:VTIMEZONE
TZID:America/Indiana/Indianapolis
BEGIN:DAYLIGHT
TZOFFSETFROM:-0500
TZOFFSETTO:-0400
TZNAME:EDT
DTSTART:20250309T070000
END:DAYLIGHT
BEGIN:STANDARD
TZOFFSETFROM:-0400
TZOFFSETTO:-0500
TZNAME:EST
DTSTART:20251102T060000
END:STANDARD
BEGIN:DAYLIGHT
TZOFFSETFROM:-0500
TZOFFSETTO:-0400
TZNAME:EDT
DTSTART:20260308T070000
END:DAYLIGHT
BEGIN:STANDARD
TZOFFSETFROM:-0400
TZOFFSETTO:-0500
TZNAME:EST
DTSTART:20261101T060000
END:STANDARD
BEGIN:DAYLIGHT
TZOFFSETFROM:-0500
TZOFFSETTO:-0400
TZNAME:EDT
DTSTART:20270314T070000
END:DAYLIGHT
BEGIN:STANDARD
TZOFFSETFROM:-0400
TZOFFSETTO:-0500
TZNAME:EST
DTSTART:20271107T060000
END:STANDARD
END:VTIMEZONE
BEGIN:VEVENT
DTSTART;TZID=America/Indiana/Indianapolis:20260503T090000
DTEND;TZID=America/Indiana/Indianapolis:20260503T130000
DTSTAMP:20260423T125009
CREATED:20260413T125827Z
LAST-MODIFIED:20260413T125827Z
UID:1394-1777798800-1777813200@www.koskoshotgunsports.com
SUMMARY:Dust Devils Sporting Clays Training
DESCRIPTION:Closed: Trap and Skeet Fiields\, OPEN: 5 stand\, OPEN: Sporting Clays.
URL:https://www.koskoshotgunsports.com/event/dust-devils-sporting-clays-training/
CATEGORIES:Skeet
END:VEVENT
BEGIN:VEVENT
DTSTART;TZID=America/Indiana/Indianapolis:20260516T090000
DTEND;TZID=America/Indiana/Indianapolis:20260516T170000
DTSTAMP:20260423T125009
CREATED:20260413T125835Z
LAST-MODIFIED:20260413T125835Z
UID:1395-1778922000-1778950800@www.koskoshotgunsports.com
SUMMARY:Dust Devils Skeet Jamboree
DESCRIPTION:Closed: Trap and Skeet Fiields\, OPEN: 5 stand\, OPEN: Sporting Clays.
URL:https://www.koskoshotgunsports.com/event/dust-devils-skeet-jamboree/
CATEGORIES:Skeet
END:VEVENT
END:VCALENDAR