BEGIN:VCALENDAR
VERSION:2.0
PRODID:-//Kosko Shotgun Sports - ECPv6.15.20//NONSGML v1.0//EN
CALSCALE:GREGORIAN
METHOD:PUBLISH
X-WR-CALNAME:Kosko Shotgun Sports
X-ORIGINAL-URL:https://www.koskoshotgunsports.com
X-WR-CALDESC:Events for Kosko Shotgun Sports
REFRESH-INTERVAL;VALUE=DURATION:PT1H
X-Robots-Tag:noindex
X-PUBLISHED-TTL:PT1H
BEGIN:VTIMEZONE
TZID:America/Indiana/Indianapolis
BEGIN:DAYLIGHT
TZOFFSETFROM:-0500
TZOFFSETTO:-0400
TZNAME:EDT
DTSTART:20240310T070000
END:DAYLIGHT
BEGIN:STANDARD
TZOFFSETFROM:-0400
TZOFFSETTO:-0500
TZNAME:EST
DTSTART:20241103T060000
END:STANDARD
BEGIN:DAYLIGHT
TZOFFSETFROM:-0500
TZOFFSETTO:-0400
TZNAME:EDT
DTSTART:20250309T070000
END:DAYLIGHT
BEGIN:STANDARD
TZOFFSETFROM:-0400
TZOFFSETTO:-0500
TZNAME:EST
DTSTART:20251102T060000
END:STANDARD
BEGIN:DAYLIGHT
TZOFFSETFROM:-0500
TZOFFSETTO:-0400
TZNAME:EDT
DTSTART:20260308T070000
END:DAYLIGHT
BEGIN:STANDARD
TZOFFSETFROM:-0400
TZOFFSETTO:-0500
TZNAME:EST
DTSTART:20261101T060000
END:STANDARD
BEGIN:DAYLIGHT
TZOFFSETFROM:-0500
TZOFFSETTO:-0400
TZNAME:EDT
DTSTART:20270314T070000
END:DAYLIGHT
BEGIN:STANDARD
TZOFFSETFROM:-0400
TZOFFSETTO:-0500
TZNAME:EST
DTSTART:20271107T060000
END:STANDARD
END:VTIMEZONE
BEGIN:VEVENT
DTSTART;TZID=America/Indiana/Indianapolis:20260228T180000
DTEND;TZID=America/Indiana/Indianapolis:20260228T210000
DTSTAMP:20260423T162233
CREATED:20260222T175612Z
LAST-MODIFIED:20260222T175612Z
UID:1357-1772301600-1772312400@www.koskoshotgunsports.com
SUMMARY:Final Five Stand Blacklight Event
DESCRIPTION:Final Five Stand Blacklight Event\nJoin us for a unique shooting experience under the lights! \nSafety First: Our five stand building has 6 shooting windows. All participants must be familiar with shotgun safety rules and proper loading techniques. Shells may only be loaded when it is your turn to shoot. \nNew to Shooting?\nBlacklight Trap is Also Available! \nIf you’re newer to the sport\, we strongly recommend starting with Blacklight Trap for a more enjoyable first experience. \nThis event is expected to fill quickly\, so reserve your spot now.\nDate: Saturday\, February 28\, 2026 \nGates Open: 6 PM \nShooting Begins Around: 7 PM \nMember Cost: $8 per Shooter for 25 targets \nNon-Member Cost: $10 per Shooter for 25 targets \nTo Reserve Your Spot: \nText is Preferred or call Rob at 574-527-4665 with the following information: \n\nYour name\nNumber of shooters in your group (1-6)\nNumber of shooting windows requested (1-6)\n\nExample: “John Smith\, 5 shooters\, 5 windows”
URL:https://www.koskoshotgunsports.com/event/final-five-stand-blacklight-event/
LOCATION:Kosko Shotgun Sports Complex\, 2391 Fox Farm Road\, Warsaw\, IN\, 46580\, United States
CATEGORIES:5 Stand
END:VEVENT
BEGIN:VEVENT
DTSTART;TZID=America/Indiana/Indianapolis:20260207T180000
DTEND;TZID=America/Indiana/Indianapolis:20260207T210000
DTSTAMP:20260423T162233
CREATED:20260201T220427Z
LAST-MODIFIED:20260201T220427Z
UID:1355-1770487200-1770498000@www.koskoshotgunsports.com
SUMMARY:KOSKO 5 Stand Blacklight
DESCRIPTION:Five Stand Blacklight Event\nJoin us for a unique shooting experience under the lights! \nSafety First: Our five stand building has 6 shooting windows. All participants must be familiar with shotgun safety rules and proper loading techniques. Shells may only be loaded when it is your turn to shoot. \nNew to Shooting? \nBlacklight Trap is Also Available! \nIf you’re newer to the sport\, we strongly recommend starting with Blacklight Trap for a more enjoyable first experience. \nThis event is expected to fill quickly\, so reserve your spot now.\nDate: Saturday\, February 7\, 2026 \nGates Open: 6 PM \nShooting Begins: 6:40 PM sharp \nMember Cost: $8 per Shooter for 25 targets \nNon-Member Cost: $10 per Shooter for 25 targets \nTo Reserve Your Spot:\nText is Preferred or call Rob at 574-527-4665 with the following information: \n\nYour name\nNumber of shooters in your group (1-6)\nNumber of shooting windows requested (1-6)\n\nExample: “John Smith\, 5 shooters\, 5 windows”
URL:https://www.koskoshotgunsports.com/event/kosko-5-stand-blacklight/
LOCATION:Kosko Shotgun Sports Complex\, 2391 Fox Farm Road\, Warsaw\, IN\, 46580\, United States
CATEGORIES:5 Stand
END:VEVENT
BEGIN:VEVENT
DTSTART;TZID=America/Indiana/Indianapolis:20260130T170000
DTEND;TZID=America/Indiana/Indianapolis:20260130T210000
DTSTAMP:20260423T162233
CREATED:20250818T122043Z
LAST-MODIFIED:20250818T122043Z
UID:1282-1769792400-1769806800@www.koskoshotgunsports.com
SUMMARY:KOSKO Dust Devils - Black Light Carry In
DESCRIPTION:Event does not start til evening \nBlack Light 5 Stand for the Group with Carry In
URL:https://www.koskoshotgunsports.com/event/kosko-dust-devils-black-light-carry-in/
LOCATION:Kosko Shotgun Sports Complex\, 2391 Fox Farm Road\, Warsaw\, IN\, 46580\, United States
CATEGORIES:5 Stand,Dustin Devils
END:VEVENT
BEGIN:VEVENT
DTSTART;TZID=America/Indiana/Indianapolis:20260117T173000
DTEND;TZID=America/Indiana/Indianapolis:20260117T210000
DTSTAMP:20260423T162233
CREATED:20260110T164638Z
LAST-MODIFIED:20260110T164638Z
UID:1352-1768671000-1768683600@www.koskoshotgunsports.com
SUMMARY:KOSKO Blacklight Saturday Janaury 17\, 2026
DESCRIPTION:Five Stand Blacklight Event\nJoin us for a unique shooting experience under the lights! \nSafety First: Our five stand building has 6 shooting windows. All participants must be familiar with shotgun safety rules and proper loading techniques. Shells may only be loaded when it is your turn to shoot. \nNew to Shooting? \nBlacklight Trap is Also Available! \nIf you’re newer to the sport\, we strongly recommend starting with Blacklight Trap for a more enjoyable first experience. \nThis event is expected to fill quickly\, so reserve your spot now. \nDate: Saturday\, January 17\, 2026 \nGates Open: 5:30 PM \nShooting Begins: 6:20 PM sharp \nMember Cost: $8 per Shooter for 25 targets \nNon-Member Cost: $10 per Shooter for 25 targets \nTo Reserve Your Spot: \nText  Rob at 574-527-4665 with the following information: \n\nYour name\nNumber of shooters in your group (1-6)\nNumber of shooting windows requested (1-6)\n\nExample: “John Smith\, 5 shooters\, 5 windows”
URL:https://www.koskoshotgunsports.com/event/kosko-blacklight-saturday-janaury-17-2026/
LOCATION:Kosko Shotgun Sports Complex\, 2391 Fox Farm Road\, Warsaw\, IN\, 46580\, United States
CATEGORIES:5 Stand
END:VEVENT
BEGIN:VEVENT
DTSTART;TZID=America/Indiana/Indianapolis:20251230T170000
DTEND;TZID=America/Indiana/Indianapolis:20251230T210000
DTSTAMP:20260423T162233
CREATED:20251216T120136Z
LAST-MODIFIED:20251216T120136Z
UID:1341-1767114000-1767128400@www.koskoshotgunsports.com
SUMMARY:Paul Fernandez 5 Stand Black Light
DESCRIPTION:5 Stand Closed for a Corporate Event
URL:https://www.koskoshotgunsports.com/event/paul-fernandez-5-stand-black-light/
LOCATION:IN
CATEGORIES:5 Stand
END:VEVENT
BEGIN:VEVENT
DTSTART;TZID=America/Indiana/Indianapolis:20251220T180000
DTEND;TZID=America/Indiana/Indianapolis:20251220T210000
DTSTAMP:20260423T162233
CREATED:20251216T115724Z
LAST-MODIFIED:20251216T115724Z
UID:1339-1766253600-1766264400@www.koskoshotgunsports.com
SUMMARY:KOSKO 5 Stand Black Light
DESCRIPTION:Five Stand Blacklight Event\nJoin us for a unique shooting experience under the lights! \nSafety First: Our five stand building has 6 shooting windows. All participants must be familiar with shotgun safety rules and proper loading techniques. Shells may only be loaded when it is your turn to shoot. \nNew to Shooting? \nBlacklight Trap is Also Available! \nIf you’re newer to the sport\, we strongly recommend starting with Blacklight Trap for a more enjoyable first experience. \nThis event is expected to fill quickly\, so reserve your spot now. \nDate: Saturday\, December 20\, 2025 \nGates Open: 5:30 PM \nShooting Begins: 6:20 PM sharp \nMember Cost: $8 per Shooter for 25 targets \nNon-Member Cost: $10 per Shooter for 25 targets \nTo Reserve Your Spot: \nText is Preferred or call Rob at 574-527-4665 with the following information: \n\nYour name\nNumber of shooters in your group (1-6)\nNumber of shooting windows requested (1-6)\n\nExample: “John Smith\, 5 shooters\, 5 windows”
URL:https://www.koskoshotgunsports.com/event/kosko-5-stand-black-light/
LOCATION:IN
CATEGORIES:5 Stand
END:VEVENT
BEGIN:VEVENT
DTSTART;TZID=America/Indiana/Indianapolis:20251115T173000
DTEND;TZID=America/Indiana/Indianapolis:20251115T210000
DTSTAMP:20260423T162233
CREATED:20251110T182031Z
LAST-MODIFIED:20251110T182031Z
UID:1328-1763227800-1763240400@www.koskoshotgunsports.com
SUMMARY:Inaugural Five Stand Blacklight Event
DESCRIPTION:Members get first access! This event is expected to fill quickly\, so reserve your spot now. \nDate: Saturday\, November 15\, 2025 \nGates Open: 5:30 PM \nShooting Begins: 6:20 PM sharp \nCost: $8 per shooter for 25 targets \nTo Reserve Your Spot: \nText or call Rob at 574-527-4665 with the following information: \n\nYour name\nNumber of shooters in your group (1-6)\nNumber of shooting windows requested (1-6)\n\nExample: “John Smith\, 5 shooters\, 5 windows”
URL:https://www.koskoshotgunsports.com/event/inaugural-five-stand-blacklight-event/
LOCATION:Kosko Shotgun Sports Complex\, 2391 Fox Farm Road\, Warsaw\, IN\, 46580\, United States
CATEGORIES:5 Stand
END:VEVENT
BEGIN:VEVENT
DTSTART;VALUE=DATE:20251026
DTEND;VALUE=DATE:20251027
DTSTAMP:20260423T162233
CREATED:20250213T213812Z
LAST-MODIFIED:20250925T124426Z
UID:1090-1761436800-1761523199@www.koskoshotgunsports.com
SUMMARY:KOSKO Club Championship
DESCRIPTION:KOSKO Club Championship  \n  \n \n  \n  \n  \n 
URL:https://www.koskoshotgunsports.com/event/kosko-club-championship/
LOCATION:Kosko Shotgun Sports Complex\, 2391 Fox Farm Road\, Warsaw\, IN\, 46580\, United States
CATEGORIES:5 Stand,Skeet,Sporting Clays,Trap
END:VEVENT
BEGIN:VEVENT
DTSTART;VALUE=DATE:20251019
DTEND;VALUE=DATE:20251020
DTSTAMP:20260423T162233
CREATED:20250818T121900Z
LAST-MODIFIED:20250818T121900Z
UID:1280-1760832000-1760918399@www.koskoshotgunsports.com
SUMMARY:Hoosier Classic
DESCRIPTION:Closed: Sporting Clays \nClosed: Skeet and Trap Fields \nClosed: 5 StandClosed: 5 Stand \nNote: Clubhouse will be used by the event all day \nMay want to park by Station #2 Parking Field
URL:https://www.koskoshotgunsports.com/event/hoosier-classic/
LOCATION:Kosko Shotgun Sports Complex\, 2391 Fox Farm Road\, Warsaw\, IN\, 46580\, United States
CATEGORIES:5 Stand,Corporate Event,Grace College,Skeet,Sporting Clays,Trap
END:VEVENT
BEGIN:VEVENT
DTSTART;TZID=America/Indiana/Indianapolis:20251002T080000
DTEND;TZID=America/Indiana/Indianapolis:20251002T170000
DTSTAMP:20260423T162233
CREATED:20250818T121734Z
LAST-MODIFIED:20250818T121734Z
UID:1278-1759392000-1759424400@www.koskoshotgunsports.com
SUMMARY:BCA Outing - Fall 2025
DESCRIPTION:Closed: Sporting Clays \nClosed: Skeet and Trap Fields \nOpen: 5 Stand \nNote: Clubhouse will be used by the event all day \nMay want to park by Station #2 Parking Field
URL:https://www.koskoshotgunsports.com/event/bca-outing-fall-2025/
LOCATION:Kosko Shotgun Sports Complex\, 2391 Fox Farm Road\, Warsaw\, IN\, 46580\, United States
CATEGORIES:5 Stand,Corporate Event,Sporting Clays,Trap
END:VEVENT
BEGIN:VEVENT
DTSTART;TZID=America/Indiana/Indianapolis:20250904T080000
DTEND;TZID=America/Indiana/Indianapolis:20250904T170000
DTSTAMP:20260423T162233
CREATED:20250407T180442Z
LAST-MODIFIED:20250902T150510Z
UID:1162-1756972800-1757005200@www.koskoshotgunsports.com
SUMMARY:KOSKO: Standard Electric Supply
DESCRIPTION:Closed: Sporting Clays \nOpen: 5 Stand \nOpen Trap & Skeet \nNote: Clubhouse will be used by the event in the AM \n 
URL:https://www.koskoshotgunsports.com/event/kosko-standard-electric-supply/
LOCATION:Kosko Shotgun Sports Complex\, 2391 Fox Farm Road\, Warsaw\, IN\, 46580\, United States
CATEGORIES:5 Stand,Corporate Event,Sporting Clays
END:VEVENT
BEGIN:VEVENT
DTSTART;TZID=America/Indiana/Indianapolis:20250814T080000
DTEND;TZID=America/Indiana/Indianapolis:20250817T170000
DTSTAMP:20260423T162233
CREATED:20250116T154554Z
LAST-MODIFIED:20250116T154554Z
UID:1055-1755158400-1755450000@www.koskoshotgunsports.com
SUMMARY:Sugar Creek Sporting Clays: Indiana State Shoot
DESCRIPTION:August 14 – 17\, 2025REGISTRATION IS NOW OPEN ON SCORE CHASER\n\n\n​ \nPreferred hotels: \nSpring Mill State Park Inn  \nUse the code 0814CC. Guests can call our Reservations line at 877-LODGES1 to make their reservations. The members in your group can also go to our website\, www.indianainns.com\, to book their room using the group code.  Any rooms not reserved in your block will be released on Monday\, July 14\, 2025. \nSpring Mill State Park Campsites  ​ \nCobblestone Inn – Salem\, IN  Code:  ISCC  15 rooms available $119.99​ \nHampton Inn – Bedford\, IN  Ref: IN State Clays Championship 25 rooms available $130 \n(Hampton Inn provides a 10% discount anytime for Sugar Creek customers.)​ \nHoliday Inn Express – Bedford\, IN  Code:SCB  20 rooms available $129-$139 \nAir B&B Hometown Legend – Houses for Rent in Mitchell\, Indiana\, United States – Airbnb \n​​​ \nVRBO 
URL:https://www.koskoshotgunsports.com/event/sugar-creek-sporting-clays-indiana-state-shoot/
LOCATION:Sugar Creek Sporting Clays\, 2191 Bono Road\, Mitchell\, IN\, 47446\, United States
CATEGORIES:5 Stand,Sporting Clays
END:VEVENT
BEGIN:VEVENT
DTSTART;TZID=America/Indiana/Indianapolis:20250808T120000
DTEND;TZID=America/Indiana/Indianapolis:20250808T170000
DTSTAMP:20260423T162233
CREATED:20250124T094448Z
LAST-MODIFIED:20250722T165420Z
UID:1070-1754654400-1754672400@www.koskoshotgunsports.com
SUMMARY:KOSKO Holladay Corporate Event
DESCRIPTION:Start time is around 1:30pm  \nOpen: Sporting Clays \nSporting Clay will remain open during the event \nOpen: 5 Stand \nOpen Trap & Skeet \n 
URL:https://www.koskoshotgunsports.com/event/kosko-holladay-corporate-event/
LOCATION:Kosko Shotgun Sports Complex\, 2391 Fox Farm Road\, Warsaw\, IN\, 46580\, United States
CATEGORIES:5 Stand,Sporting Clays
END:VEVENT
BEGIN:VEVENT
DTSTART;TZID=America/Indiana/Indianapolis:20250612T100000
DTEND;TZID=America/Indiana/Indianapolis:20250612T160000
DTSTAMP:20260423T162233
CREATED:20250324T195824Z
LAST-MODIFIED:20250604T162554Z
UID:1118-1749722400-1749744000@www.koskoshotgunsports.com
SUMMARY:Paul Fernandez Outing
DESCRIPTION:Closed: Sporting Clays \nClosed: 5 Stand \nClosed: Field 1 \nOpen : Skeet and Trap Fields \nNote: Clubhouse will be used by the event all day \nMay want to park by Station #2 Parking Field
URL:https://www.koskoshotgunsports.com/event/paul-fernandez-outing/
LOCATION:Kosko Shotgun Sports Complex\, 2391 Fox Farm Road\, Warsaw\, IN\, 46580\, United States
CATEGORIES:5 Stand,Corporate Event,Sporting Clays
END:VEVENT
BEGIN:VEVENT
DTSTART;TZID=America/Indiana/Indianapolis:20250520T110000
DTEND;TZID=America/Indiana/Indianapolis:20250520T150000
DTSTAMP:20260423T162233
CREATED:20250501T155538Z
LAST-MODIFIED:20250501T155538Z
UID:1168-1747738800-1747753200@www.koskoshotgunsports.com
SUMMARY:Warsaw Outdoors Club
DESCRIPTION:Warsaw Outdoors Club \nEvent is from 11am until 3pm \nThe Event will be using the Club House \nNot Available: Trap\, Skeet and 5 Stand \nAvailable: Sporting Clays
URL:https://www.koskoshotgunsports.com/event/warsaw-outdoors-club/
LOCATION:Kosko Shotgun Sports Complex\, 2391 Fox Farm Road\, Warsaw\, IN\, 46580\, United States
CATEGORIES:5 Stand,Trap
END:VEVENT
BEGIN:VEVENT
DTSTART;TZID=America/Indiana/Indianapolis:20250508T080000
DTEND;TZID=America/Indiana/Indianapolis:20250508T170000
DTSTAMP:20260423T162233
CREATED:20250429T193427Z
LAST-MODIFIED:20250501T115951Z
UID:1165-1746691200-1746723600@www.koskoshotgunsports.com
SUMMARY:Shambaugh Corporate Event
DESCRIPTION:Closed: Sporting Clays and Five Stand \nClosed: Skeet and Trap Fields \nNote: Clubhouse will be used by the event all day \nMorning and Afternoon Events – All Fields will be used
URL:https://www.koskoshotgunsports.com/event/shambaugh-corporate-event/
LOCATION:Kosko Shotgun Sports Complex\, 2391 Fox Farm Road\, Warsaw\, IN\, 46580\, United States
CATEGORIES:5 Stand,Corporate Event,Skeet,Sporting Clays,Trap
END:VEVENT
BEGIN:VEVENT
DTSTART;TZID=America/Indiana/Indianapolis:20250308T190000
DTEND;TZID=America/Indiana/Indianapolis:20250308T230000
DTSTAMP:20260423T162233
CREATED:20250209T132854Z
LAST-MODIFIED:20250209T132854Z
UID:1084-1741460400-1741474800@www.koskoshotgunsports.com
SUMMARY:5-Stand Black Light Shoot
DESCRIPTION:Final of the year 5-Stand Black Light Shoot \nDetails to follow
URL:https://www.koskoshotgunsports.com/event/5-stand-black-light-shoot/
LOCATION:Kosko Shotgun Sports Complex\, 2391 Fox Farm Road\, Warsaw\, IN\, 46580\, United States
CATEGORIES:5 Stand
END:VEVENT
BEGIN:VEVENT
DTSTART;TZID=America/Indiana/Indianapolis:20250208T080000
DTEND;TZID=America/Indiana/Indianapolis:20250208T170000
DTSTAMP:20260423T162233
CREATED:20250207T214655Z
LAST-MODIFIED:20250207T214655Z
UID:1082-1739001600-1739034000@www.koskoshotgunsports.com
SUMMARY:POSTPONED Saturday 2/8/25 Black Light Shoot due to Weather
DESCRIPTION:POSTPONED Saturday 2/8/25 Black Light Shoot due to Weather
URL:https://www.koskoshotgunsports.com/event/postponed-saturday-2-8-25-black-light-shoot-due-to-weather/
LOCATION:Kosko Shotgun Sports Complex\, 2391 Fox Farm Road\, Warsaw\, IN\, 46580\, United States
CATEGORIES:5 Stand
END:VEVENT
BEGIN:VEVENT
DTSTART;TZID=America/Indiana/Indianapolis:20250118T180000
DTEND;TZID=America/Indiana/Indianapolis:20250118T213000
DTSTAMP:20260423T162233
CREATED:20250107T195707Z
LAST-MODIFIED:20250107T195707Z
UID:1032-1737223200-1737235800@www.koskoshotgunsports.com
SUMMARY:KOSKO Black Light Shoot
DESCRIPTION: 
URL:https://www.koskoshotgunsports.com/event/kosko-black-light-shoot/
LOCATION:Kosko Shotgun Sports Complex\, 2391 Fox Farm Road\, Warsaw\, IN\, 46580\, United States
CATEGORIES:5 Stand,Trap
END:VEVENT
END:VCALENDAR